BEGIN:VCALENDAR
VERSION:2.0
PRODID:-//Circuit de Haute Saintonge - ECPv4.9.2//NONSGML v1.0//EN
CALSCALE:GREGORIAN
METHOD:PUBLISH
X-WR-CALNAME:Circuit de Haute Saintonge
X-ORIGINAL-URL:https://www.circuitdehautesaintonge.com
X-WR-CALDESC:Évènements pour Circuit de Haute Saintonge
BEGIN:VEVENT
DTSTART;VALUE=DATE:20221026
DTEND;VALUE=DATE:20221027
DTSTAMP:20260420T194313
CREATED:20220919T150834Z
LAST-MODIFIED:20220919T150834Z
UID:3703-1666742400-1666828799@www.circuitdehautesaintonge.com
SUMMARY:RESERVATION EXCLUSIVE
DESCRIPTION:Visiteurs autorisés uniquement sur les zones publiques.\nChiens INTERDITS.\nPlus de renseignement au 0546040810. \n
URL:https://www.circuitdehautesaintonge.com/event/reservation-exclusive-130/
CATEGORIES:Privé
END:VEVENT
END:VCALENDAR