BEGIN:VCALENDAR
VERSION:2.0
PRODID:-//Circuit de Haute Saintonge - ECPv4.9.2//NONSGML v1.0//EN
CALSCALE:GREGORIAN
METHOD:PUBLISH
X-WR-CALNAME:Circuit de Haute Saintonge
X-ORIGINAL-URL:https://www.circuitdehautesaintonge.com
X-WR-CALDESC:Évènements pour Circuit de Haute Saintonge
BEGIN:VEVENT
DTSTART;VALUE=DATE:20221024
DTEND;VALUE=DATE:20221026
DTSTAMP:20260420T175758
CREATED:20220919T150717Z
LAST-MODIFIED:20220919T150717Z
UID:3699-1666569600-1666742399@www.circuitdehautesaintonge.com
SUMMARY:PISTE LIBRE
DESCRIPTION:Pas d’activité prévue ce jour.\nPistes et infrastructures libres à la location\, à la 1/2 journée ou journée.\nPlus de renseignement au 0546040810. \n
URL:https://www.circuitdehautesaintonge.com/event/piste-libre-439/
CATEGORIES:Piste non réservée
END:VEVENT
END:VCALENDAR