BEGIN:VCALENDAR
VERSION:2.0
PRODID:-//Circuit de Haute Saintonge - ECPv4.9.2//NONSGML v1.0//EN
CALSCALE:GREGORIAN
METHOD:PUBLISH
X-WR-CALNAME:Circuit de Haute Saintonge
X-ORIGINAL-URL:https://www.circuitdehautesaintonge.com
X-WR-CALDESC:Évènements pour Circuit de Haute Saintonge
BEGIN:VEVENT
DTSTART;VALUE=DATE:20190617
DTEND;VALUE=DATE:20190620
DTSTAMP:20260425T203834
CREATED:20190227T100817Z
LAST-MODIFIED:20190304T102642Z
UID:1295-1560729600-1560988799@www.circuitdehautesaintonge.com
SUMMARY:PISTE LIBRE
DESCRIPTION:Pistes et infrastructures libres à la location.\nInfos et réservation auprès du Circuit au : 05 46 04 08 10 / contact@circuitdhs.com \n
URL:https://www.circuitdehautesaintonge.com/event/piste-libre-222/
CATEGORIES:Piste non réservée
END:VEVENT
END:VCALENDAR