BEGIN:VCALENDAR
VERSION:2.0
PRODID:-//Circuit de Haute Saintonge - ECPv4.9.2//NONSGML v1.0//EN
CALSCALE:GREGORIAN
METHOD:PUBLISH
X-WR-CALNAME:Circuit de Haute Saintonge
X-ORIGINAL-URL:https://www.circuitdehautesaintonge.com
X-WR-CALDESC:Évènements pour Circuit de Haute Saintonge
BEGIN:VEVENT
DTSTART;VALUE=DATE:20190614
DTEND;VALUE=DATE:20190615
DTSTAMP:20260425T222003
CREATED:20190227T100710Z
LAST-MODIFIED:20190516T090723Z
UID:1293-1560470400-1560556799@www.circuitdehautesaintonge.com
SUMMARY:RESERVATION EXCLUSIVE
DESCRIPTION:Privatisation de la piste.\nVisiteurs acceptés sur les zones publiques.\nPour plus de renseignement\, veuillez contacter le Circuit au : 05 46 04 08 10 / contact@circuitdhs.com \n
URL:https://www.circuitdehautesaintonge.com/event/piste-libre-221/
CATEGORIES:Privé
END:VEVENT
END:VCALENDAR