BEGIN:VCALENDAR
VERSION:2.0
PRODID:-//Circuit de Haute Saintonge - ECPv4.9.2//NONSGML v1.0//EN
CALSCALE:GREGORIAN
METHOD:PUBLISH
X-WR-CALNAME:Circuit de Haute Saintonge
X-ORIGINAL-URL:https://www.circuitdehautesaintonge.com
X-WR-CALDESC:Évènements pour Circuit de Haute Saintonge
BEGIN:VEVENT
DTSTART;VALUE=DATE:20190524
DTEND;VALUE=DATE:20190525
DTSTAMP:20260425T013853
CREATED:20190227T095108Z
LAST-MODIFIED:20190304T100254Z
UID:1279-1558656000-1558742399@www.circuitdehautesaintonge.com
SUMMARY:RESERVATION EXCLUSIVE - AUTO
DESCRIPTION:Privatisation de la piste – Visiteurs acceptés sur les zones publiques.\nPour plus de renseignement\, veuillez contacter le Circuit au : 05 46 04 08 10 / contact@circuitdhs.com \n
URL:https://www.circuitdehautesaintonge.com/event/piste-libre-215/
CATEGORIES:Privé
END:VEVENT
END:VCALENDAR