BEGIN:VCALENDAR
VERSION:2.0
PRODID:-//Circuit de Haute Saintonge - ECPv4.9.2//NONSGML v1.0//EN
CALSCALE:GREGORIAN
METHOD:PUBLISH
X-WR-CALNAME:Circuit de Haute Saintonge
X-ORIGINAL-URL:https://www.circuitdehautesaintonge.com
X-WR-CALDESC:Évènements pour Circuit de Haute Saintonge
BEGIN:VEVENT
DTSTART;VALUE=DATE:20190613
DTEND;VALUE=DATE:20190614
DTSTAMP:20260425T234019
CREATED:20190304T101141Z
LAST-MODIFIED:20190604T095618Z
UID:1555-1560384000-1560470399@www.circuitdehautesaintonge.com
SUMMARY:MOTO
DESCRIPTION:Roulage libre MOTO.\nInfos et réservation auprès de FMA : https://www.fma-days.fr \n
URL:https://www.circuitdehautesaintonge.com/event/moto-45/
CATEGORIES:Track Day
END:VEVENT
END:VCALENDAR