BEGIN:VCALENDAR
VERSION:2.0
PRODID:-//Circuit de Haute Saintonge - ECPv4.9.2//NONSGML v1.0//EN
CALSCALE:GREGORIAN
METHOD:PUBLISH
X-WR-CALNAME:Circuit de Haute Saintonge
X-ORIGINAL-URL:https://www.circuitdehautesaintonge.com
X-WR-CALDESC:Évènements pour Circuit de Haute Saintonge
BEGIN:VEVENT
DTSTART;VALUE=DATE:20230402
DTEND;VALUE=DATE:20230403
DTSTAMP:20260422T104228
CREATED:20230331T160607Z
LAST-MODIFIED:20230331T160607Z
UID:4040-1680393600-1680479999@www.circuitdehautesaintonge.com
SUMMARY:KARTING FERME
DESCRIPTION:PIste karting privatisée toute la journée = location de karting indisponible \n
URL:https://www.circuitdehautesaintonge.com/event/karting-ferme-45/
CATEGORIES:KARTING
END:VEVENT
END:VCALENDAR