BEGIN:VCALENDAR
VERSION:2.0
PRODID:-//Circuit de Haute Saintonge - ECPv4.9.2//NONSGML v1.0//EN
CALSCALE:GREGORIAN
METHOD:PUBLISH
X-WR-CALNAME:Circuit de Haute Saintonge
X-ORIGINAL-URL:https://www.circuitdehautesaintonge.com
X-WR-CALDESC:Évènements pour Circuit de Haute Saintonge
BEGIN:VEVENT
DTSTART;VALUE=DATE:20260419
DTEND;VALUE=DATE:20260420
DTSTAMP:20260424T172330
CREATED:20260417T142018Z
LAST-MODIFIED:20260417T142018Z
UID:5940-1776556800-1776643199@www.circuitdehautesaintonge.com
SUMMARY:KARTING
DESCRIPTION:Programme de la journée : \n\nde 10h00 à 12h30 : location karting\nde 13h30 à 18h30 : location karting\n\n  \nRappel des tarifs :\n– 20 euros la session de 10 minutes\n– 55 euros les 3 sessions (pour la même personne\, le même jour) \nConditions :\n– à partir de 12 ans (vérification d’une pièce d’identité et signature décharge responsabilité par les parents)\n– chaussures fermées obligatoires\n– chiens interdits\, même tenus en laisse \n
URL:https://www.circuitdehautesaintonge.com/event/karting-465/
CATEGORIES:KARTING
END:VEVENT
END:VCALENDAR