BEGIN:VCALENDAR
VERSION:2.0
PRODID:-//Circuit de Haute Saintonge - ECPv4.9.2//NONSGML v1.0//EN
CALSCALE:GREGORIAN
METHOD:PUBLISH
X-WR-CALNAME:Circuit de Haute Saintonge
X-ORIGINAL-URL:https://www.circuitdehautesaintonge.com
X-WR-CALDESC:Évènements pour Circuit de Haute Saintonge
BEGIN:VEVENT
DTSTART;VALUE=DATE:20230415
DTEND;VALUE=DATE:20230416
DTSTAMP:20260422T085251
CREATED:20230414T150041Z
LAST-MODIFIED:20230414T150041Z
UID:4068-1681516800-1681603199@www.circuitdehautesaintonge.com
SUMMARY:KARTING
DESCRIPTION:Programme de la journée : \n\nde 10h30 à 16h00 : privatisation de la piste = location karting indisponible\nde 16h00 à 18h30 : reprise de la location karting\n\nRappel des tarifs :\n– 20 euros la session de 10 minutes\n– 55 euros les 3 sessions (pour la même personne\, le même jour) \nConditions :\n– à partir de 12 ans (vérification d’une pièce d’identité et signature décharge responsabilité par les parents)\n– chaussures fermées obligatoires\n– chiens interdits\, même tenus en laisse \n
URL:https://www.circuitdehautesaintonge.com/event/karting-259/
CATEGORIES:KARTING
END:VEVENT
END:VCALENDAR